BEGIN:VCALENDAR
VERSION:2.0
PRODID:-//81.169.145.72//NONSGML kigkonsult.se iCalcreator 2.20//
CALSCALE:GREGORIAN
METHOD:PUBLISH
X-WR-TIMEZONE:UTC
BEGIN:VEVENT
UID:event56@St. Otto Zinnowitz - Insel Usedom
DTSTAMP:20260423T040435Z
CATEGORIES:Exerzitien
DESCRIPTION:Exerzitien m GR L.Ring & B.Borkenhagen\nKategorie: Exerzitien\n
 ICS-Link: https://st-otto-zinnowitz.de/index.php?option=com_jem&view=event
 &id=56:exerzitien-m-borkenhagen\n
DTSTART;VALUE=DATE:20211114
DTEND;VALUE=DATE:20211122
LOCATION:St. Otto Zinnowitz\,Dr.-Wachsmann-Str. 29\,17454 Zinnowitz
SUMMARY:Exerzitien m GR L.Ring & B.Borkenhagen
URL:https://st-otto-zinnowitz.de/index.php?option=com_jem&view=event&id=56:
 exerzitien-m-borkenhagen
END:VEVENT
END:VCALENDAR
