BEGIN:VCALENDAR
VERSION:2.0
PRODID:-//81.169.145.72//NONSGML kigkonsult.se iCalcreator 2.20//
CALSCALE:GREGORIAN
METHOD:PUBLISH
X-WR-TIMEZONE:UTC
BEGIN:VEVENT
UID:event5@St. Otto Zinnowitz - Insel Usedom
DTSTAMP:20260422T222200Z
CATEGORIES:Sommerfahrt
DESCRIPTION:Sommerfahrt (1. Durchgang)\nKategorie: Sommerfahrt\nICS-Link: h
 ttp://st-otto-zinnowitz.de/index.php?option=com_jem&view=event&id=5:sommer
 fahrt-1-durchgang\n
DTSTART;VALUE=DATE:20170722
DTEND;VALUE=DATE:20170805
LOCATION:St. Otto Zinnowitz\,Dr.-Wachsmann-Str. 29\,17454 Zinnowitz
SUMMARY:Sommerfahrt (1. Durchgang)
URL:http://st-otto-zinnowitz.de/index.php?option=com_jem&view=event&id=5:so
 mmerfahrt-1-durchgang
END:VEVENT
END:VCALENDAR
