BEGIN:VCALENDAR
VERSION:2.0
PRODID:-//81.169.145.72//NONSGML kigkonsult.se iCalcreator 2.20//
CALSCALE:GREGORIAN
METHOD:PUBLISH
X-WR-TIMEZONE:UTC
BEGIN:VEVENT
UID:event4@St. Otto Zinnowitz - Insel Usedom
DTSTAMP:20260422T222159Z
CATEGORIES:Familiensommer
DESCRIPTION:Familienfreizeit 1\nKategorie: Familiensommer\nICS-Link: http:/
 /st-otto-zinnowitz.de/index.php?option=com_jem&view=event&id=4:familienfre
 izeit-1\n
DTSTART;VALUE=DATE:20170721
DTEND;VALUE=DATE:20170805
LOCATION:St. Otto Zinnowitz\,Dr.-Wachsmann-Str. 29\,17454 Zinnowitz
SUMMARY:Familienfreizeit 1
URL:http://st-otto-zinnowitz.de/index.php?option=com_jem&view=event&id=4:fa
 milienfreizeit-1
END:VEVENT
END:VCALENDAR
