BEGIN:VCALENDAR
VERSION:2.0
PRODID:-//81.169.145.72//NONSGML kigkonsult.se iCalcreator 2.20//
CALSCALE:GREGORIAN
METHOD:PUBLISH
X-WR-TIMEZONE:UTC
BEGIN:VEVENT
UID:event3@St. Otto Zinnowitz - Insel Usedom
DTSTAMP:20260422T221142Z
CATEGORIES:Väterwochenende
DESCRIPTION:Väterwochenende\nKategorie: Väterwochenende\nICS-Link: http://s
 t-otto-zinnowitz.de/index.php?option=com_jem&view=event&id=3:vaeterwochene
 nde\n
DTSTART;VALUE=DATE:20170505
DTEND;VALUE=DATE:20170508
LOCATION:St. Otto Zinnowitz\,Dr.-Wachsmann-Str. 29\,17454 Zinnowitz
SUMMARY:Väterwochenende
URL:http://st-otto-zinnowitz.de/index.php?option=com_jem&view=event&id=3:va
 eterwochenende
END:VEVENT
END:VCALENDAR
