BEGIN:VCALENDAR
VERSION:2.0
PRODID:-//81.169.145.72//NONSGML kigkonsult.se iCalcreator 2.20//
CALSCALE:GREGORIAN
METHOD:PUBLISH
X-WR-TIMEZONE:UTC
BEGIN:VEVENT
UID:event20@St. Otto Zinnowitz - Insel Usedom
DTSTAMP:20260422T222200Z
CATEGORIES:Festveranstaltung
DESCRIPTION:St.-Otto-Fest\nKategorie: Festveranstaltung\nICS-Link: http://s
 t-otto-zinnowitz.de/index.php?option=com_jem&view=event&id=20:patronatsfes
 t\n
DTSTART:20170701T140000Z
DTEND:20170701T200000Z
LOCATION:St. Otto Zinnowitz\,Dr.-Wachsmann-Str. 29\,17454 Zinnowitz
SUMMARY:St.-Otto-Fest
URL:http://st-otto-zinnowitz.de/index.php?option=com_jem&view=event&id=20:p
 atronatsfest
END:VEVENT
END:VCALENDAR
