BEGIN:VCALENDAR
VERSION:2.0
PRODID:-//81.169.145.72//NONSGML kigkonsult.se iCalcreator 2.20//
CALSCALE:GREGORIAN
METHOD:PUBLISH
X-WR-TIMEZONE:UTC
BEGIN:VEVENT
UID:event2@St. Otto Zinnowitz - Insel Usedom
DTSTAMP:20260422T222211Z
CATEGORIES:Meditatives Tanzen
DESCRIPTION:Exerzitienkurs mit Abt Dr. Beda M. Sonnenberg OSB\nKategorie: M
 editatives Tanzen\nICS-Link: http://st-otto-zinnowitz.de/index.php?option=
 com_jem&view=event&id=2:exerzitienkurs-mit-abt-dr-beda-m-sonnenberg-osb\n
DTSTART;VALUE=DATE:20170303
DTEND;VALUE=DATE:20170311
LOCATION:St. Otto Zinnowitz\,Dr.-Wachsmann-Str. 29\,17454 Zinnowitz
SUMMARY:Exerzitienkurs mit Abt Dr. Beda M. Sonnenberg OSB
URL:http://st-otto-zinnowitz.de/index.php?option=com_jem&view=event&id=2:ex
 erzitienkurs-mit-abt-dr-beda-m-sonnenberg-osb
END:VEVENT
END:VCALENDAR
