BEGIN:VCALENDAR
VERSION:2.0
PRODID:-//81.169.145.72//NONSGML kigkonsult.se iCalcreator 2.20//
CALSCALE:GREGORIAN
METHOD:PUBLISH
X-WR-TIMEZONE:UTC
BEGIN:VEVENT
UID:event12@St. Otto Zinnowitz - Insel Usedom
DTSTAMP:20260422T222330Z
CATEGORIES:Seniorenfahrten
DESCRIPTION:Frühlings-Seniorenfahrt II\nKategorie: Seniorenfahrten\nICS-Lin
 k: http://st-otto-zinnowitz.de/index.php?option=com_jem&view=event&id=12:f
 ruehlings-seniorenfahrt-ii\n
DTSTART;VALUE=DATE:20170507
DTEND;VALUE=DATE:20170513
LOCATION:St. Otto Zinnowitz\,Dr.-Wachsmann-Str. 29\,17454 Zinnowitz
SUMMARY:Frühlings-Seniorenfahrt II
URL:http://st-otto-zinnowitz.de/index.php?option=com_jem&view=event&id=12:f
 ruehlings-seniorenfahrt-ii
END:VEVENT
END:VCALENDAR
