BEGIN:VCALENDAR
VERSION:2.0
PRODID:-//81.169.145.72//NONSGML kigkonsult.se iCalcreator 2.20//
CALSCALE:GREGORIAN
METHOD:PUBLISH
X-WR-TIMEZONE:UTC
BEGIN:VEVENT
UID:event11@St. Otto Zinnowitz - Insel Usedom
DTSTAMP:20260422T222330Z
CATEGORIES:Seniorenfahrten
DESCRIPTION:Frühlings-Seniorenfahrt I\nKategorie: Seniorenfahrten\nICS-Link
 : http://st-otto-zinnowitz.de/index.php?option=com_jem&view=event&id=11:fr
 uehlings-seniorenfahrt-i\n
DTSTART;VALUE=DATE:20170423
DTEND;VALUE=DATE:20170429
LOCATION:St. Otto Zinnowitz\,Dr.-Wachsmann-Str. 29\,17454 Zinnowitz
SUMMARY:Frühlings-Seniorenfahrt I
URL:http://st-otto-zinnowitz.de/index.php?option=com_jem&view=event&id=11:f
 ruehlings-seniorenfahrt-i
END:VEVENT
END:VCALENDAR
