BEGIN:VCALENDAR
VERSION:2.0
PRODID:-//81.169.145.72//NONSGML kigkonsult.se iCalcreator 2.20//
CALSCALE:GREGORIAN
METHOD:PUBLISH
X-WR-TIMEZONE:UTC
BEGIN:VEVENT
UID:event1@St. Otto Zinnowitz - Insel Usedom
DTSTAMP:20260422T222542Z
CATEGORIES:Exerzitien
DESCRIPTION:Tanzexerzitien 1 mit Dominikanerinnen von Speyer\nKategorie: Ex
 erzitien\nICS-Link: http://st-otto-zinnowitz.de/index.php?option=com_jem&v
 iew=event&id=1:tanzexerzitien-1-mit-dominikanerinnen-von-speyer\n
DTSTART;VALUE=DATE:20170217
DTEND;VALUE=DATE:20170227
LOCATION:St. Otto Zinnowitz\,Dr.-Wachsmann-Str. 29\,17454 Zinnowitz
SUMMARY:Tanzexerzitien 1 mit Dominikanerinnen von Speyer
URL:http://st-otto-zinnowitz.de/index.php?option=com_jem&view=event&id=1:ta
 nzexerzitien-1-mit-dominikanerinnen-von-speyer
END:VEVENT
END:VCALENDAR
